BEGIN:VCALENDAR
VERSION:2.0
PRODID:SchoolNow
CALSCALE:GREGORIAN
BEGIN:VEVENT
UID:1dd9066a-95af-11ed-b864-0e5225a3d7dd
DTSTAMP:20230116T150636Z
SUMMARY:Special Board Meeting Tuesday\, January 17\, 2023 4:15  PM
LOCATION:Please note\, these meetings will be held via Teams teleconference
 .
URL;VALUE=URI:https://www.bsd1.org/school-board/calendar/3668578/regular-bo
 ard-meeting-monday-april-18th-2022-5-00-pm-clone-clone-clone-clone-clone-c
 lone-clone-clone
DTSTART:20230117T231500Z
DTEND:20230118T001500Z
END:VEVENT
END:VCALENDAR
