BEGIN:VCALENDAR
VERSION:2.0
PRODID:SchoolNow
CALSCALE:GREGORIAN
BEGIN:VEVENT
UID:69345876-9050-11ed-9017-02babdef33f3
DTSTAMP:20230109T190415Z
SUMMARY:Special Board Meeting Wednesday\, January 11\, 2023 5:00  PM
LOCATION:Please note\, these meetings will be held via Teams teleconference
 .
URL;VALUE=URI:https://www.bsd1.org/school-board/calendar/3661430/regular-bo
 ard-meeting-monday-april-18th-2022-5-00-pm-clone-clone-clone-clone-clone-c
 lone-clone
DTSTART:20230112T000000Z
DTEND:20230112T010000Z
END:VEVENT
END:VCALENDAR
