BEGIN:VCALENDAR
VERSION:2.0
PRODID:SchoolNow
CALSCALE:GREGORIAN
BEGIN:VEVENT
UID:53ef6ac8-8bb4-11ed-ac38-02ad8ec94d81
DTSTAMP:20230103T221653Z
SUMMARY:Special Board Meeting Thursday\, January 5\, 2023 5:00  PM
LOCATION:Please note\, these meetings will be held via Teams teleconference
 .
URL;VALUE=URI:https://www.bsd1.org/school-board/calendar/3654480/regular-bo
 ard-meeting-monday-april-18th-2022-5-00-pm-clone-clone-clone-clone-clone-c
 lone
DTSTART:20230106T000000Z
DTEND:20230106T010000Z
END:VEVENT
END:VCALENDAR
