BEGIN:VCALENDAR
VERSION:2.0
PRODID:SchoolNow
CALSCALE:GREGORIAN
BEGIN:VEVENT
UID:0af3fc0c-7d50-11ed-b556-0e6c82343025
DTSTAMP:20221216T144345Z
SUMMARY:Regular Board Meeting Monday\, December 19\, 2022 5:00 PM
LOCATION:East Middle School Library\, 2600 Grand Ave.
URL;VALUE=URI:https://www.bsd1.org/school-board/calendar/3645964/regular-bo
 ard-meeting-monday-april-18th-2022-5-00-pm-clone-clone-clone-clone-clone-c
 lone-clone
DTSTART:20221220T000000Z
DTEND:20221220T010000Z
END:VEVENT
END:VCALENDAR
