BEGIN:VCALENDAR
VERSION:2.0
PRODID:SchoolNow
CALSCALE:GREGORIAN
BEGIN:VEVENT
UID:56ef7d80-6517-11ed-a4ea-0ae77ca20f33
DTSTAMP:20221115T185723Z
SUMMARY:Special Board Meeting Thursday\, November 17\, 2022 12:00  PM
LOCATION:Please note\, these meetings will be held via Teams teleconference
 .
URL;VALUE=URI:https://www.bsd1.org/school-board/calendar/3611317/regular-bo
 ard-meeting-monday-april-18th-2022-5-00-pm-clone-clone-clone-clone-clone
DTSTART:20221117T190000Z
DTEND:20221117T200000Z
END:VEVENT
END:VCALENDAR
