BEGIN:VCALENDAR
VERSION:2.0
PRODID:SchoolNow
CALSCALE:GREGORIAN
BEGIN:VEVENT
UID:8d80d66a-4e32-11ed-9f23-0a0185b07735
DTSTAMP:20221017T154414Z
SUMMARY:Regular Board Meeting Monday\, October 17\, 2022 5:00 PM
LOCATION:East Middle School Library\, 2600 Grand Ave.
URL;VALUE=URI:https://www.bsd1.org/school-board/calendar/3530452/regular-bo
 ard-meeting-monday-april-18th-2022-5-00-pm-clone-clone-clone-clone-clone-c
 lone
DTSTART:20221017T230000Z
DTEND:20221018T000000Z
END:VEVENT
END:VCALENDAR
