BEGIN:VCALENDAR
VERSION:2.0
PRODID:SchoolNow
CALSCALE:GREGORIAN
BEGIN:VEVENT
UID:f806b1f8-35c8-11ed-a6e6-0a9222b41227
DTSTAMP:20220916T140758Z
SUMMARY:Regular Board Meeting Monday\, September 19\, 2022 5:00 PM
LOCATION:East Middle School Library\, 2600 Grand Ave.
URL;VALUE=URI:https://www.bsd1.org/school-board/calendar/3402262/regular-bo
 ard-meeting-monday-april-18th-2022-5-00-pm-clone-clone-clone-clone-clone
DTSTART:20220919T230000Z
DTEND:20220920T000000Z
END:VEVENT
END:VCALENDAR
