BEGIN:VCALENDAR
VERSION:2.0
PRODID:SchoolNow
CALSCALE:GREGORIAN
BEGIN:VEVENT
UID:df5d27a6-1e33-11ed-8c0b-0edd9defd4e3
DTSTAMP:20220817T135245Z
SUMMARY:Special Board Meeting Thursday\, August 18\, 2022 4:45  PM
LOCATION:Please note\, these meetings will be held via Teams teleconference
 .
URL;VALUE=URI:https://www.bsd1.org/school-board/calendar/3284914/regular-bo
 ard-meeting-monday-april-18th-2022-5-00-pm-clone-clone-clone
DTSTART:20220818T224500Z
DTEND:20220818T234500Z
END:VEVENT
END:VCALENDAR
