BEGIN:VCALENDAR
VERSION:2.0
PRODID:SchoolNow
CALSCALE:GREGORIAN
BEGIN:VEVENT
UID:bb150226-19d1-11ed-a56a-0a6749629411
DTSTAMP:20220812T000009Z
SUMMARY:Regular Board Meeting Monday\, August 15\, 2022 5:00 PM
LOCATION:East Middle School Library\, 2600 Grand Ave.
URL;VALUE=URI:https://www.bsd1.org/school-board/calendar/3278588/regular-bo
 ard-meeting-monday-april-18th-2022-5-00-pm-clone-clone-clone-clone
DTSTART:20220815T230000Z
DTEND:20220816T000000Z
END:VEVENT
END:VCALENDAR
