BEGIN:VCALENDAR
VERSION:2.0
PRODID:SchoolNow
CALSCALE:GREGORIAN
BEGIN:VEVENT
UID:e86eb840-0449-11ed-95b6-0e0814e725ad
DTSTAMP:20220715T142539Z
SUMMARY:Regular Board Meeting Monday\, July 18\, 2022 5:00 PM
LOCATION:East Middle School Library\, 2600 Grand Ave.
URL;VALUE=URI:https://www.bsd1.org/school-board/calendar/3245252/regular-bo
 ard-meeting-monday-april-18th-2022-5-00-pm-clone-clone-clone
DTSTART:20220718T230000Z
DTEND:20220719T000000Z
END:VEVENT
END:VCALENDAR
