BEGIN:VCALENDAR
VERSION:2.0
PRODID:SchoolNow
CALSCALE:GREGORIAN
BEGIN:VEVENT
UID:2bdc76a0-edc3-11ec-b5bd-0a30c8de4f4d
DTSTAMP:20220616T222505Z
SUMMARY:Regular Board Meeting Monday\, June 20\, 2022 5:00 PM
LOCATION:East Middle School Library\, 2600 Grand Ave.
URL;VALUE=URI:https://www.bsd1.org/school-board/calendar/3222132/regular-bo
 ard-meeting-monday-april-18th-2022-5-00-pm-clone-clone
DTSTART:20220620T230000Z
DTEND:20220621T000000Z
END:VEVENT
END:VCALENDAR
