BEGIN:VCALENDAR
VERSION:2.0
PRODID:SchoolNow
CALSCALE:GREGORIAN
BEGIN:VEVENT
UID:f6314f52-e5d0-11ec-985f-0e4e53052bef
DTSTAMP:20220606T194601Z
SUMMARY:Special Board Meeting Wednesday\, June 8\, 2022 12:00 PM
LOCATION:Please note\, these meetings will be held via Teams teleconference
 .
URL;VALUE=URI:https://www.bsd1.org/school-board/calendar/3212497/regular-bo
 ard-meeting-monday-april-18th-2022-5-00-pm-clone-clone
DTSTART:20220608T180000Z
DTEND:20220608T190000Z
END:VEVENT
END:VCALENDAR
