BEGIN:VCALENDAR
VERSION:2.0
PRODID:SchoolNow
CALSCALE:GREGORIAN
BEGIN:VEVENT
UID:c3b43446-d2c4-11ec-b7f7-0a8c040ecd21
DTSTAMP:20220513T135828Z
SUMMARY:Special Board Meeting Monday May 16\, 2022 4:00 PM
URL;VALUE=URI:https://www.bsd1.org/school-board/calendar/3198925/special-bo
 ard-meeting-wednesday-october-5-2021-5-00-pm-clone-clone-clone-clone-clone
 -clone-clone-clone-clone
DTSTART:20220516T220000Z
DTEND:20220516T230000Z
END:VEVENT
END:VCALENDAR
