BEGIN:VCALENDAR
VERSION:2.0
PRODID:SchoolNow
CALSCALE:GREGORIAN
BEGIN:VEVENT
UID:812be100-d2c4-11ec-b490-0a8c040ecd21
DTSTAMP:20220513T135636Z
SUMMARY:Regular Board Meeting Monday\,May 16\, 2022 5:00 PM
LOCATION:West Elementary Cafetorium\, Butte\, MT 59701
URL;VALUE=URI:https://www.bsd1.org/school-board/calendar/3198923/regular-bo
 ard-meeting-monday-april-18th-2022-5-00-pm-clone
DTSTART:20220516T230000Z
DTEND:20220517T000000Z
END:VEVENT
END:VCALENDAR
