BEGIN:VCALENDAR
VERSION:2.0
PRODID:SchoolNow
CALSCALE:GREGORIAN
BEGIN:VEVENT
UID:99da4f50-bc37-11ec-b356-0270d2eba1bf
DTSTAMP:20220414T211302Z
SUMMARY:Regular Board Meeting Monday\, April 18th\, 2022 5:00 PM
LOCATION:East Middle School\, 2600 Grand Ave\, Butte\, MT 59701
URL;VALUE=URI:https://www.bsd1.org/school-board/calendar/3172882/regular-bo
 ard-meeting-monday-april-18th-2022-5-00-pm
DTSTART:20220418T230000Z
DTEND:20220419T000000Z
END:VEVENT
END:VCALENDAR
