BEGIN:VCALENDAR
VERSION:2.0
PRODID:SchoolNow
CALSCALE:GREGORIAN
BEGIN:VEVENT
UID:4459ac06-b05c-11ec-9299-0a1ca9938c57
DTSTAMP:20220330T190602Z
SUMMARY:Regular Board Meeting Friday\, April 1st\, 2022 12:00 PM
URL;VALUE=URI:https://www.bsd1.org/school-board/calendar/3148115/regular-bo
 ard-meeting-friday-april-1st-2022-12-00-pm
DTSTART:20220401T180000Z
DTEND:20220401T190000Z
END:VEVENT
END:VCALENDAR
