BEGIN:VCALENDAR
VERSION:2.0
PRODID:SchoolNow
CALSCALE:GREGORIAN
BEGIN:VEVENT
UID:8c89fc34-d2f7-11ec-8661-0a45d5178b79
DTSTAMP:20220513T200159Z
SUMMARY:Belgrade (There)
DESCRIPTION:Bus - 10:30
LOCATION:Belgrade
URL;VALUE=URI:https://www.bsd1.org/departments/activities/tennis/calendar/3
 199074/belgrade-there
DTSTART:20220517T180000Z
DTEND:20220518T013000Z
END:VEVENT
END:VCALENDAR
