BEGIN:VCALENDAR
VERSION:2.0
PRODID:SchoolNow
CALSCALE:GREGORIAN
BEGIN:VEVENT
UID:4a5a240a-c7fe-11ec-b7c6-024f1e698b65
DTSTAMP:20220429T205232Z
SUMMARY:Butte Vs Hellgate (Stodden)
LOCATION:Butte
URL;VALUE=URI:https://www.bsd1.org/departments/activities/tennis/calendar/3
 185207/butte-vs-hellgate-stodden
DTSTART:20220504T180000Z
DTEND:20220505T013000Z
END:VEVENT
END:VCALENDAR
