BEGIN:VCALENDAR
VERSION:2.0
PRODID:SchoolNow
CALSCALE:GREGORIAN
BEGIN:VEVENT
UID:2fc8dc0a-8ea4-11ec-a456-0e5a0ad5a0eb
DTSTAMP:20220215T211437Z
SUMMARY:State @ Missoula(Missoula)
LOCATION:Missoula
URL;VALUE=URI:https://www.bsd1.org/departments/activities/tennis/calendar/3
 104687/state-missoula-there
DTSTART:20220526T140000Z
DTEND:20220527T213000Z
END:VEVENT
END:VCALENDAR
