BEGIN:VCALENDAR
VERSION:2.0
PRODID:SchoolNow
CALSCALE:GREGORIAN
BEGIN:VEVENT
UID:0f45caa6-8ea4-11ec-8c57-0e5a0ad5a0eb
DTSTAMP:20220513T200101Z
SUMMARY:Divisionals Missoula and Butte (There)
DESCRIPTION:Bus- 4:00 on 5/18/22
LOCATION:Missoula
URL;VALUE=URI:https://www.bsd1.org/departments/activities/tennis/calendar/3
 104667/divisionals-missoula-and-butte-there
DTSTART:20220519T140000Z
DTEND:20220520T213000Z
END:VEVENT
END:VCALENDAR
