BEGIN:VCALENDAR
VERSION:2.0
PRODID:SchoolNow
CALSCALE:GREGORIAN
BEGIN:VEVENT
UID:d21763e2-8ea3-11ec-be07-0e5a0ad5a0eb
DTSTAMP:20220510T204016Z
SUMMARY:Big Sky (Home)
LOCATION:Butte
URL;VALUE=URI:https://www.bsd1.org/departments/activities/tennis/calendar/3
 104665/big-sky-home
DTSTART:20220514T180000Z
DTEND:20220515T013000Z
END:VEVENT
END:VCALENDAR
