BEGIN:VCALENDAR
VERSION:2.0
PRODID:SchoolNow
CALSCALE:GREGORIAN
BEGIN:VEVENT
UID:b6ebadbc-8ea3-11ec-b420-0e5a0ad5a0eb
DTSTAMP:20220504T203548Z
SUMMARY:Billings vs. Helena and Butte (Home)
LOCATION:Butte(Stodden and West)
URL;VALUE=URI:https://www.bsd1.org/departments/activities/tennis/calendar/3
 104664/billings-vs-helena-and-butte-home
DTSTART:20220507T160000Z
DTEND:20220507T233000Z
END:VEVENT
END:VCALENDAR
