BEGIN:VCALENDAR
VERSION:2.0
PRODID:SchoolNow
CALSCALE:GREGORIAN
BEGIN:VEVENT
UID:50d66a80-8ea3-11ec-998f-0e5a0ad5a0eb
DTSTAMP:20220425T142131Z
SUMMARY:Crossover (Missoula)
LOCATION:Missoula
URL;VALUE=URI:https://www.bsd1.org/departments/activities/tennis/calendar/3
 104660/east-vs-west-missoula
DTSTART:20220430T140000Z
DTEND:20220501T213000Z
END:VEVENT
END:VCALENDAR
