BEGIN:VCALENDAR
VERSION:2.0
PRODID:SchoolNow
CALSCALE:GREGORIAN
BEGIN:VEVENT
UID:20c5654e-8ea3-11ec-87e9-0e5a0ad5a0eb
DTSTAMP:20220414T144146Z
SUMMARY:Western Conference (Kalispell)
LOCATION:Helena
URL;VALUE=URI:https://www.bsd1.org/departments/activities/tennis/calendar/3
 104659/western-conference-helena
DTSTART:20220423T160000Z
DTEND:20220423T220000Z
END:VEVENT
END:VCALENDAR
