BEGIN:VCALENDAR
VERSION:2.0
PRODID:SchoolNow
CALSCALE:GREGORIAN
BEGIN:VEVENT
UID:eb0d7086-8ea2-11ec-a0d9-0e5a0ad5a0eb
DTSTAMP:20220215T210452Z
SUMMARY:Bozeman and  Belgrade vs. Helena and Butte (Bozeman)
LOCATION:Bozeman
URL;VALUE=URI:https://www.bsd1.org/departments/activities/tennis/calendar/3
 104657/bozeman-and-belgrade-vs-helena-and-butte-bozeman
DTSTART:20220415T160000Z
DTEND:20220415T220000Z
END:VEVENT
END:VCALENDAR
