BEGIN:VCALENDAR
VERSION:2.0
PRODID:SchoolNow
CALSCALE:GREGORIAN
BEGIN:VEVENT
UID:bde41268-8ea2-11ec-93da-0e5a0ad5a0eb
DTSTAMP:20220404T200000Z
SUMMARY:Kalispell and Butte vs. Missoula (Kalispell)
DESCRIPTION:Bus: 5:30 AM
LOCATION:Kalispell
URL;VALUE=URI:https://www.bsd1.org/departments/activities/tennis/calendar/3
 104656/kalispell-and-butte-vs-missoula-kalispell
DTSTART:20220409T160000Z
DTEND:20220409T220000Z
END:VEVENT
END:VCALENDAR
