BEGIN:VCALENDAR
VERSION:2.0
PRODID:SchoolNow
CALSCALE:GREGORIAN
BEGIN:VEVENT
UID:06bc3410-8ddc-11ec-a6b5-0e5a0ad5a0eb
DTSTAMP:20220214T212556Z
SUMMARY:Billings Vs Great Falls and Butte (Billings)
LOCATION:Billings
URL;VALUE=URI:https://www.bsd1.org/departments/activities/tennis/calendar/3
 103223/billings-vs-great-falls-and-butte-billings
DTSTART:20220402T160000Z
DTEND:20220402T220000Z
END:VEVENT
END:VCALENDAR
