BEGIN:VCALENDAR
VERSION:2.0
PRODID:SchoolNow
CALSCALE:GREGORIAN
BEGIN:VEVENT
UID:b1178f94-0e93-11ed-9937-0adb7097dfdf
DTSTAMP:20220728T164100Z
SUMMARY:Butte(Home)
LOCATION:Butte
URL;VALUE=URI:https://www.bsd1.org/departments/activities/butte-high-cross-
 country/calendar/3257735/butte-home
DTSTART:20220930T190000Z
DTEND:20220930T210000Z
END:VEVENT
END:VCALENDAR
