BEGIN:VCALENDAR
VERSION:2.0
PRODID:SchoolNow
CALSCALE:GREGORIAN
BEGIN:VEVENT
UID:10ba311a-b2dd-11e9-b587-0af1b7b57896
DTSTAMP:20190731T163425Z
SUMMARY:Belgrade Dual (There)
DESCRIPTION:JV: 6:00\nVarsity 7:00
LOCATION:Belgrade High School
URL;VALUE=URI:https://www.bsd1.org/departments/activities/bhs-wrestling/cal
 endar/2041463/belgrade-dual-there
DTSTART:20200202T020000Z
DTEND:20200202T030000Z
END:VEVENT
END:VCALENDAR
