BEGIN:VCALENDAR
VERSION:2.0
PRODID:SchoolNow
CALSCALE:GREGORIAN
BEGIN:VEVENT
UID:cd750f5c-c215-11f0-a019-0a58a9feac02
DTSTAMP:20260421T090013Z
SUMMARY:Non Scheduled Day - NO SCHOOL
URL;VALUE=URI:https://www.bsd1.org/about/calendar/8796938/non-scheduled-day
 -no-school
DTSTART;VALUE=DATE:20260515
DTEND;VALUE=DATE:20260516
END:VEVENT
END:VCALENDAR
