BEGIN:VCALENDAR
VERSION:2.0
PRODID:SchoolNow
CALSCALE:GREGORIAN
BEGIN:VEVENT
UID:dab6b23c-c149-11f0-a9d2-027cb6ecafa3
DTSTAMP:20260421T090013Z
SUMMARY:No School PK-2 Kindergarten Roundup
URL;VALUE=URI:https://www.bsd1.org/about/calendar/8795194/no-school-pk-2-ki
 ndergarten-roundup
DTSTART;VALUE=DATE:20260514
DTEND;VALUE=DATE:20260515
END:VEVENT
END:VCALENDAR
