BEGIN:VCALENDAR
VERSION:2.0
PRODID:SchoolNow
CALSCALE:GREGORIAN
BEGIN:VEVENT
UID:58afb00a-b6ee-11f0-98bf-02f47b5914e5
DTSTAMP:20260421T090013Z
SUMMARY:Non Scheduled Day - NO SCHOOL
URL;VALUE=URI:https://www.bsd1.org/about/calendar/8766417/non-scheduled-day
 -no-school
DTSTART;VALUE=DATE:20260501
DTEND;VALUE=DATE:20260502
END:VEVENT
END:VCALENDAR
